Workbook

Sheet 拆分给学院核对
A1: 园艺学院核对可参评国奖、学业奖对象名单
A2: 学号 | B2: 姓名 | C2: 评选所在年级 | D2: 年级 | E2: 学院名称 | F2: 专业名称 | G2: 培养类别 | H2: 学制 | I2: 培养层次 | J2: 学生类型 | K2: 备注 | L2: 学院核对后特殊情况说明
A3: 20252017001 | B3: 艾鹏程 | C3: 2025 | D3: =VLOOKUP(A3,[1]研究生学籍信息表!$D:$G,4,0) -> 2025 | E3: =VLOOKUP(A3,[1]研究生学籍信息表!$D:$J,7,0) -> 园艺学院 | F3: =VLOOKUP(A3,[1]研究生学籍信息表!$D:$L,9,0) -> 蔬菜学 | G3: =VLOOKUP(A3,[1]研究生学籍信息表!$D:$O,12,0) -> 非定向 | H3: =VLOOKUP(A3,[1]研究生学籍信息表!$D:$R,15,0) -> 3 | I3: 全日制学术硕士 | J3: 硕士
A4: 20262198001 | B4: 敖仕锦 | C4: 2026 | D4: =VLOOKUP(A4,[1]研究生学籍信息表!$D:$G,4,0) -> 2026 | E4: =VLOOKUP(A4,[1]研究生学籍信息表!$D:$J,7,0) -> 园艺学院 | F4: =VLOOKUP(A4,[1]研究生学籍信息表!$D:$L,9,0) -> 园艺学 | G4: =VLOOKUP(A4,[1]研究生学籍信息表!$D:$O,12,0) -> 非定向 | H4: =VLOOKUP(A4,[1]研究生学籍信息表!$D:$R,15,0) -> 3 | I4: 全日制学术硕士 | J4: 硕士
A5: 20263137155 | B5: 班贵兴 | C5: 2026 | D5: =VLOOKUP(A5,[1]研究生学籍信息表!$D:$G,4,0) -> 2026 | E5: =VLOOKUP(A5,[1]研究生学籍信息表!$D:$J,7,0) -> 园艺学院 | F5: =VLOOKUP(A5,[1]研究生学籍信息表!$D:$L,9,0) -> 农艺与种业 | G5: =VLOOKUP(A5,[1]研究生学籍信息表!$D:$O,12,0) -> 非定向 | H5: =VLOOKUP(A5,[1]研究生学籍信息表!$D:$R,15,0) -> 3 | I5: 全日制专业硕士 | J5: 硕士
A6: 20253137150 | B6: 贝伊婷 | C6: 2025 | D6: =VLOOKUP(A6,[1]研究生学籍信息表!$D:$G,4,0) -> 2025 | E6: =VLOOKUP(A6,[1]研究生学籍信息表!$D:$J,7,0) -> 园艺学院 | F6: =VLOOKUP(A6,[1]研究生学籍信息表!$D:$L,9,0) -> 农艺与种业 | G6: =VLOOKUP(A6,[1]研究生学籍信息表!$D:$O,12,0) -> 非定向 | H6: =VLOOKUP(A6,[1]研究生学籍信息表!$D:$R,15,0) -> 3 | I6: 全日制专业硕士 | J6: 硕士 | K6: 在我校缴费，参评奖学金，学业奖和助学金不在我校发
A7: 20263137156 | B7: 毕丽玮 | C7: 2026 | D7: =VLOOKUP(A7,[1]研究生学籍信息表!$D:$G,4,0) -> 2026 | E7: =VLOOKUP(A7,[1]研究生学籍信息表!$D:$J,7,0) -> 园艺学院 | F7: =VLOOKUP(A7,[1]研究生学籍信息表!$D:$L,9,0) -> 农艺与种业 | G7: =VLOOKUP(A7,[1]研究生学籍信息表!$D:$O,12,0) -> 非定向 | H7: =VLOOKUP(A7,[1]研究生学籍信息表!$D:$R,15,0) -> 3 | I7: 全日制专业硕士 | J7: 硕士
A8: 20263137157 | B8: 蔡迦蕾 | C8: 2026 | D8: =VLOOKUP(A8,[1]研究生学籍信息表!$D:$G,4,0) -> 2026 | E8: =VLOOKUP(A8,[1]研究生学籍信息表!$D:$J,7,0) -> 园艺学院 | F8: =VLOOKUP(A8,[1]研究生学籍信息表!$D:$L,9,0) -> 农艺与种业 | G8: =VLOOKUP(A8,[1]研究生学籍信息表!$D:$O,12,0) -> 非定向 | H8: =VLOOKUP(A8,[1]研究生学籍信息表!$D:$R,15,0) -> 3 | I8: 全日制专业硕士 | J8: 硕士
A9: 20243137139 | B9: 蔡菁芸 | C9: 2024 | D9: =VLOOKUP(A9,[1]研究生学籍信息表!$D:$G,4,0) -> 2024 | E9: =VLOOKUP(A9,[1]研究生学籍信息表!$D:$J,7,0) -> 园艺学院 | F9: =VLOOKUP(A9,[1]研究生学籍信息表!$D:$L,9,0) -> 农艺与种业 | G9: =VLOOKUP(A9,[1]研究生学籍信息表!$D:$O,12,0) -> 非定向 | H9: =VLOOKUP(A9,[1]研究生学籍信息表!$D:$R,15,0) -> 3 | I9: 全日制专业硕士 | J9: 硕士
A10: 20252018001 | B10: 蔡诺 | C10: 2025 | D10: =VLOOKUP(A10,[1]研究生学籍信息表!$D:$G,4,0) -> 2025 | E10: =VLOOKUP(A10,[1]研究生学籍信息表!$D:$J,7,0) -> 园艺学院 | F10: =VLOOKUP(A10,[1]研究生学籍信息表!$D:$L,9,0) -> 茶学 | G10: =VLOOKUP(A10,[1]研究生学籍信息表!$D:$O,12,0) -> 非定向 | H10: =VLOOKUP(A10,[1]研究生学籍信息表!$D:$R,15,0) -> 3 | I10: 全日制学术硕士 | J10: 硕士
A11: 20253137151 | B11: 蔡绮琦 | C11: 2025 | D11: =VLOOKUP(A11,[1]研究生学籍信息表!$D:$G,4,0) -> 2025 | E11: =VLOOKUP(A11,[1]研究生学籍信息表!$D:$J,7,0) -> 园艺学院 | F11: =VLOOKUP(A11,[1]研究生学籍信息表!$D:$L,9,0) -> 农艺与种业 | G11: =VLOOKUP(A11,[1]研究生学籍信息表!$D:$O,12,0) -> 非定向 | H11: =VLOOKUP(A11,[1]研究生学籍信息表!$D:$R,15,0) -> 3 | I11: 全日制专业硕士 | J11: 硕士
A12: 20263137158 | B12: 蔡思雨 | C12: 2026 | D12: =VLOOKUP(A12,[1]研究生学籍信息表!$D:$G,4,0) -> 2026 | E12: =VLOOKUP(A12,[1]研究生学籍信息表!$D:$J,7,0) -> 园艺学院 | F12: =VLOOKUP(A12,[1]研究生学籍信息表!$D:$L,9,0) -> 农艺与种业 | G12: =VLOOKUP(A12,[1]研究生学籍信息表!$D:$O,12,0) -> 非定向 | H12: =VLOOKUP(A12,[1]研究生学籍信息表!$D:$R,15,0) -> 3 | I12: 全日制专业硕士 | J12: 硕士
A13: 20262198002 | B13: 蔡寺贤 | C13: 2026 | D13: =VLOOKUP(A13,[1]研究生学籍信息表!$D:$G,4,0) -> 2026 | E13: =VLOOKUP(A13,[1]研究生学籍信息表!$D:$J,7,0) -> 园艺学院 | F13: =VLOOKUP(A13,[1]研究生学籍信息表!$D:$L,9,0) -> 园艺学 | G13: =VLOOKUP(A13,[1]研究生学籍信息表!$D:$O,12,0) -> 非定向 | H13: =VLOOKUP(A13,[1]研究生学籍信息表!$D:$R,15,0) -> 3 | I13: 全日制学术硕士 | J13: 硕士
A14: 20242017001 | B14: 蔡文杰 | C14: 2024 | D14: =VLOOKUP(A14,[1]研究生学籍信息表!$D:$G,4,0) -> 2024 | E14: =VLOOKUP(A14,[1]研究生学籍信息表!$D:$J,7,0) -> 园艺学院 | F14: =VLOOKUP(A14,[1]研究生学籍信息表!$D:$L,9,0) -> 蔬菜学 | G14: =VLOOKUP(A14,[1]研究生学籍信息表!$D:$O,12,0) -> 非定向 | H14: =VLOOKUP(A14,[1]研究生学籍信息表!$D:$R,15,0) -> 3 | I14: 全日制学术硕士 | J14: 硕士
A15: 20243137140 | B15: 蔡欣燕 | C15: 2024 | D15: =VLOOKUP(A15,[1]研究生学籍信息表!$D:$G,4,0) -> 2024 | E15: =VLOOKUP(A15,[1]研究生学籍信息表!$D:$J,7,0) -> 园艺学院 | F15: =VLOOKUP(A15,[1]研究生学籍信息表!$D:$L,9,0) -> 农艺与种业 | G15: =VLOOKUP(A15,[1]研究生学籍信息表!$D:$O,12,0) -> 非定向 | H15: =VLOOKUP(A15,[1]研究生学籍信息表!$D:$R,15,0) -> 3 | I15: 全日制专业硕士 | J15: 硕士
A16: 20253137152 | B16: 曹航博 | C16: 2025 | D16: =VLOOKUP(A16,[1]研究生学籍信息表!$D:$G,4,0) -> 2025 | E16: =VLOOKUP(A16,[1]研究生学籍信息表!$D:$J,7,0) -> 园艺学院 | F16: =VLOOKUP(A16,[1]研究生学籍信息表!$D:$L,9,0) -> 农艺与种业 | G16: =VLOOKUP(A16,[1]研究生学籍信息表!$D:$O,12,0) -> 非定向 | H16: =VLOOKUP(A16,[1]研究生学籍信息表!$D:$R,15,0) -> 3 | I16: 全日制专业硕士 | J16: 硕士
A17: 20244191001 | B17: 曹嘉浩 | C17: 2024 | D17: =VLOOKUP(A17,[1]研究生学籍信息表!$D:$G,4,0) -> 2024 | E17: =VLOOKUP(A17,[1]研究生学籍信息表!$D:$J,7,0) -> 园艺学院 | F17: =VLOOKUP(A17,[1]研究生学籍信息表!$D:$L,9,0) -> 风景园林 | G17: =VLOOKUP(A17,[1]研究生学籍信息表!$D:$O,12,0) -> 非定向 | H17: =VLOOKUP(A17,[1]研究生学籍信息表!$D:$R,15,0) -> 4 | I17: 全日制专业博士 | J17: 博士
A18: 20263137159 | B18: 曹鸣宇 | C18: 2026 | D18: =VLOOKUP(A18,[1]研究生学籍信息表!$D:$G,4,0) -> 2026 | E18: =VLOOKUP(A18,[1]研究生学籍信息表!$D:$J,7,0) -> 园艺学院 | F18: =VLOOKUP(A18,[1]研究生学籍信息表!$D:$L,9,0) -> 农艺与种业 | G18: =VLOOKUP(A18,[1]研究生学籍信息表!$D:$O,12,0) -> 非定向 | H18: =VLOOKUP(A18,[1]研究生学籍信息表!$D:$R,15,0) -> 3 | I18: 全日制专业硕士 | J18: 硕士
A19: 20263137314 | B19: 曾炳坚 | C19: 2026 | D19: =VLOOKUP(A19,[1]研究生学籍信息表!$D:$G,4,0) -> 2026 | E19: =VLOOKUP(A19,[1]研究生学籍信息表!$D:$J,7,0) -> 园艺学院 | F19: =VLOOKUP(A19,[1]研究生学籍信息表!$D:$L,9,0) -> 农艺与种业 | G19: =VLOOKUP(A19,[1]研究生学籍信息表!$D:$O,12,0) -> 非定向 | H19: =VLOOKUP(A19,[1]研究生学籍信息表!$D:$R,15,0) -> 3 | I19: 全日制专业硕士 | J19: 硕士
A20: 20231017006 | B20: 曾家晶 | C20: 2023 | D20: =VLOOKUP(A20,[1]研究生学籍信息表!$D:$G,4,0) -> 2023 | E20: =VLOOKUP(A20,[1]研究生学籍信息表!$D:$J,7,0) -> 园艺学院 | F20: =VLOOKUP(A20,[1]研究生学籍信息表!$D:$L,9,0) -> 蔬菜学 | G20: =VLOOKUP(A20,[1]研究生学籍信息表!$D:$O,12,0) -> 非定向 | H20: =VLOOKUP(A20,[1]研究生学籍信息表!$D:$R,15,0) -> 4 | I20: 全日制学术博士 | J20: 博士
A21: 20243137276 | B21: 曾嘉培 | C21: 2024 | D21: =VLOOKUP(A21,[1]研究生学籍信息表!$D:$G,4,0) -> 2024 | E21: =VLOOKUP(A21,[1]研究生学籍信息表!$D:$J,7,0) -> 园艺学院 | F21: =VLOOKUP(A21,[1]研究生学籍信息表!$D:$L,9,0) -> 农艺与种业 | G21: =VLOOKUP(A21,[1]研究生学籍信息表!$D:$O,12,0) -> 非定向 | H21: =VLOOKUP(A21,[1]研究生学籍信息表!$D:$R,15,0) -> 3 | I21: 全日制专业硕士 | J21: 硕士
A22: 20243137277 | B22: 曾庆鑫 | C22: 2024 | D22: =VLOOKUP(A22,[1]研究生学籍信息表!$D:$G,4,0) -> 2024 | E22: =VLOOKUP(A22,[1]研究生学籍信息表!$D:$J,7,0) -> 园艺学院 | F22: =VLOOKUP(A22,[1]研究生学籍信息表!$D:$L,9,0) -> 农艺与种业 | G22: =VLOOKUP(A22,[1]研究生学籍信息表!$D:$O,12,0) -> 非定向 | H22: =VLOOKUP(A22,[1]研究生学籍信息表!$D:$R,15,0) -> 3 | I22: 全日制专业硕士 | J22: 硕士
A23: 20243137278 | B23: 曾婉祺 | C23: 2024 | D23: =VLOOKUP(A23,[1]研究生学籍信息表!$D:$G,4,0) -> 2024 | E23: =VLOOKUP(A23,[1]研究生学籍信息表!$D:$J,7,0) -> 园艺学院 | F23: =VLOOKUP(A23,[1]研究生学籍信息表!$D:$L,9,0) -> 农艺与种业 | G23: =VLOOKUP(A23,[1]研究生学籍信息表!$D:$O,12,0) -> 非定向 | H23: =VLOOKUP(A23,[1]研究生学籍信息表!$D:$R,15,0) -> 3 | I23: 全日制专业硕士 | J23: 硕士
A24: 20263137315 | B24: 曾欣然 | C24: 2026 | D24: =VLOOKUP(A24,[1]研究生学籍信息表!$D:$G,4,0) -> 2026 | E24: =VLOOKUP(A24,[1]研究生学籍信息表!$D:$J,7,0) -> 园艺学院 | F24: =VLOOKUP(A24,[1]研究生学籍信息表!$D:$L,9,0) -> 农艺与种业 | G24: =VLOOKUP(A24,[1]研究生学籍信息表!$D:$O,12,0) -> 非定向 | H24: =VLOOKUP(A24,[1]研究生学籍信息表!$D:$R,15,0) -> 3 | I24: 全日制专业硕士 | J24: 硕士
A25: 20252049009 | B25: 曾雪娣 | C25: 2025 | D25: =VLOOKUP(A25,[1]研究生学籍信息表!$D:$G,4,0) -> 2025 | E25: =VLOOKUP(A25,[1]研究生学籍信息表!$D:$J,7,0) -> 园艺学院 | F25: =VLOOKUP(A25,[1]研究生学籍信息表!$D:$L,9,0) -> 园艺产品采后科学 | G25: =VLOOKUP(A25,[1]研究生学籍信息表!$D:$O,12,0) -> 非定向 | H25: =VLOOKUP(A25,[1]研究生学籍信息表!$D:$R,15,0) -> 3 | I25: 全日制学术硕士 | J25: 硕士
A26: 20253137305 | B26: 曾梓璇 | C26: 2025 | D26: =VLOOKUP(A26,[1]研究生学籍信息表!$D:$G,4,0) -> 2025 | E26: =VLOOKUP(A26,[1]研究生学籍信息表!$D:$J,7,0) -> 园艺学院 | F26: =VLOOKUP(A26,[1]研究生学籍信息表!$D:$L,9,0) -> 农艺与种业 | G26: =VLOOKUP(A26,[1]研究生学籍信息表!$D:$O,12,0) -> 非定向 | H26: =VLOOKUP(A26,[1]研究生学籍信息表!$D:$R,15,0) -> 3 | I26: 全日制专业硕士 | J26: 硕士
A27: 20253137153 | B27: 陈灿 | C27: 2025 | D27: =VLOOKUP(A27,[1]研究生学籍信息表!$D:$G,4,0) -> 2025 | E27: =VLOOKUP(A27,[1]研究生学籍信息表!$D:$J,7,0) -> 园艺学院 | F27: =VLOOKUP(A27,[1]研究生学籍信息表!$D:$L,9,0) -> 农艺与种业 | G27: =VLOOKUP(A27,[1]研究生学籍信息表!$D:$O,12,0) -> 非定向 | H27: =VLOOKUP(A27,[1]研究生学籍信息表!$D:$R,15,0) -> 3 | I27: 全日制专业硕士 | J27: 硕士
A28: 20252017002 | B28: 陈翀霄 | C28: 2025 | D28: =VLOOKUP(A28,[1]研究生学籍信息表!$D:$G,4,0) -> 2025 | E28: =VLOOKUP(A28,[1]研究生学籍信息表!$D:$J,7,0) -> 园艺学院 | F28: =VLOOKUP(A28,[1]研究生学籍信息表!$D:$L,9,0) -> 蔬菜学 | G28: =VLOOKUP(A28,[1]研究生学籍信息表!$D:$O,12,0) -> 非定向 | H28: =VLOOKUP(A28,[1]研究生学籍信息表!$D:$R,15,0) -> 3 | I28: 全日制学术硕士 | J28: 硕士
A29: 20231017002 | B29: 陈春凤 | C29: 2023 | D29: =VLOOKUP(A29,[1]研究生学籍信息表!$D:$G,4,0) -> 2023 | E29: =VLOOKUP(A29,[1]研究生学籍信息表!$D:$J,7,0) -> 园艺学院 | F29: =VLOOKUP(A29,[1]研究生学籍信息表!$D:$L,9,0) -> 蔬菜学 | G29: =VLOOKUP(A29,[1]研究生学籍信息表!$D:$O,12,0) -> 非定向 | H29: =VLOOKUP(A29,[1]研究生学籍信息表!$D:$R,15,0) -> 4 | I29: 全日制学术博士 | J29: 博士
A30: 20253137154 | B30: 陈飞 | C30: 2025 | D30: =VLOOKUP(A30,[1]研究生学籍信息表!$D:$G,4,0) -> 2025 | E30: =VLOOKUP(A30,[1]研究生学籍信息表!$D:$J,7,0) -> 园艺学院 | F30: =VLOOKUP(A30,[1]研究生学籍信息表!$D:$L,9,0) -> 农艺与种业 | G30: =VLOOKUP(A30,[1]研究生学籍信息表!$D:$O,12,0) -> 非定向 | H30: =VLOOKUP(A30,[1]研究生学籍信息表!$D:$R,15,0) -> 3 | I30: 全日制专业硕士 | J30: 硕士
A31: 20262198003 | B31: 陈浩明 | C31: 2026 | D31: =VLOOKUP(A31,[1]研究生学籍信息表!$D:$G,4,0) -> 2026 | E31: =VLOOKUP(A31,[1]研究生学籍信息表!$D:$J,7,0) -> 园艺学院 | F31: =VLOOKUP(A31,[1]研究生学籍信息表!$D:$L,9,0) -> 园艺学 | G31: =VLOOKUP(A31,[1]研究生学籍信息表!$D:$O,12,0) -> 非定向 | H31: =VLOOKUP(A31,[1]研究生学籍信息表!$D:$R,15,0) -> 3 | I31: 全日制学术硕士 | J31: 硕士
A32: 20243137141 | B32: 陈浩锐 | C32: 2024 | D32: =VLOOKUP(A32,[1]研究生学籍信息表!$D:$G,4,0) -> 2024 | E32: =VLOOKUP(A32,[1]研究生学籍信息表!$D:$J,7,0) -> 园艺学院 | F32: =VLOOKUP(A32,[1]研究生学籍信息表!$D:$L,9,0) -> 农艺与种业 | G32: =VLOOKUP(A32,[1]研究生学籍信息表!$D:$O,12,0) -> 非定向 | H32: =VLOOKUP(A32,[1]研究生学籍信息表!$D:$R,15,0) -> 3 | I32: 全日制专业硕士 | J32: 硕士
A33: 20253137155 | B33: 陈泓妃 | C33: 2025 | D33: =VLOOKUP(A33,[1]研究生学籍信息表!$D:$G,4,0) -> 2025 | E33: =VLOOKUP(A33,[1]研究生学籍信息表!$D:$J,7,0) -> 园艺学院 | F33: =VLOOKUP(A33,[1]研究生学籍信息表!$D:$L,9,0) -> 农艺与种业 | G33: =VLOOKUP(A33,[1]研究生学籍信息表!$D:$O,12,0) -> 非定向 | H33: =VLOOKUP(A33,[1]研究生学籍信息表!$D:$R,15,0) -> 3 | I33: 全日制专业硕士 | J33: 硕士
A34: 20241018001 | B34: 陈家浩 | C34: 2024 | D34: =VLOOKUP(A34,[1]研究生学籍信息表!$D:$G,4,0) -> 2024 | E34: =VLOOKUP(A34,[1]研究生学籍信息表!$D:$J,7,0) -> 园艺学院 | F34: =VLOOKUP(A34,[1]研究生学籍信息表!$D:$L,9,0) -> 茶学 | G34: =VLOOKUP(A34,[1]研究生学籍信息表!$D:$O,12,0) -> 非定向 | H34: =VLOOKUP(A34,[1]研究生学籍信息表!$D:$R,15,0) -> 4 | I34: 全日制学术博士 | J34: 博士
A35: 20242018001 | B35: 陈家霖 | C35: 2024 | D35: =VLOOKUP(A35,[1]研究生学籍信息表!$D:$G,4,0) -> 2024 | E35: =VLOOKUP(A35,[1]研究生学籍信息表!$D:$J,7,0) -> 园艺学院 | F35: =VLOOKUP(A35,[1]研究生学籍信息表!$D:$L,9,0) -> 茶学 | G35: =VLOOKUP(A35,[1]研究生学籍信息表!$D:$O,12,0) -> 非定向 | H35: =VLOOKUP(A35,[1]研究生学籍信息表!$D:$R,15,0) -> 3 | I35: 全日制学术硕士 | J35: 硕士
A36: 20263137160 | B36: 陈嘉丽 | C36: 2026 | D36: =VLOOKUP(A36,[1]研究生学籍信息表!$D:$G,4,0) -> 2026 | E36: =VLOOKUP(A36,[1]研究生学籍信息表!$D:$J,7,0) -> 园艺学院 | F36: =VLOOKUP(A36,[1]研究生学籍信息表!$D:$L,9,0) -> 农艺与种业 | G36: =VLOOKUP(A36,[1]研究生学籍信息表!$D:$O,12,0) -> 非定向 | H36: =VLOOKUP(A36,[1]研究生学籍信息表!$D:$R,15,0) -> 3 | I36: 全日制专业硕士 | J36: 硕士
A37: 20231016001 | B37: 陈嘉怡 | C37: 2023 | D37: =VLOOKUP(A37,[1]研究生学籍信息表!$D:$G,4,0) -> 2023 | E37: =VLOOKUP(A37,[1]研究生学籍信息表!$D:$J,7,0) -> 园艺学院 | F37: =VLOOKUP(A37,[1]研究生学籍信息表!$D:$L,9,0) -> 果树学 | G37: =VLOOKUP(A37,[1]研究生学籍信息表!$D:$O,12,0) -> 非定向 | H37: =VLOOKUP(A37,[1]研究生学籍信息表!$D:$R,15,0) -> 4 | I37: 全日制学术博士 | J37: 博士
A38: 20263137161 | B38: 陈健翔 | C38: 2026 | D38: =VLOOKUP(A38,[1]研究生学籍信息表!$D:$G,4,0) -> 2026 | E38: =VLOOKUP(A38,[1]研究生学籍信息表!$D:$J,7,0) -> 园艺学院 | F38: =VLOOKUP(A38,[1]研究生学籍信息表!$D:$L,9,0) -> 农艺与种业 | G38: =VLOOKUP(A38,[1]研究生学籍信息表!$D:$O,12,0) -> 非定向 | H38: =VLOOKUP(A38,[1]研究生学籍信息表!$D:$R,15,0) -> 3 | I38: 全日制专业硕士 | J38: 硕士
A39: 20253137156 | B39: 陈婕 | C39: 2025 | D39: =VLOOKUP(A39,[1]研究生学籍信息表!$D:$G,4,0) -> 2025 | E39: =VLOOKUP(A39,[1]研究生学籍信息表!$D:$J,7,0) -> 园艺学院 | F39: =VLOOKUP(A39,[1]研究生学籍信息表!$D:$L,9,0) -> 农艺与种业 | G39: =VLOOKUP(A39,[1]研究生学籍信息表!$D:$O,12,0) -> 非定向 | H39: =VLOOKUP(A39,[1]研究生学籍信息表!$D:$R,15,0) -> 3 | I39: 全日制专业硕士 | J39: 硕士
A40: 20262198004 | B40: 陈金婷 | C40: 2026 | D40: =VLOOKUP(A40,[1]研究生学籍信息表!$D:$G,4,0) -> 2026 | E40: =VLOOKUP(A40,[1]研究生学籍信息表!$D:$J,7,0) -> 园艺学院 | F40: =VLOOKUP(A40,[1]研究生学籍信息表!$D:$L,9,0) -> 园艺学 | G40: =VLOOKUP(A40,[1]研究生学籍信息表!$D:$O,12,0) -> 非定向 | H40: =VLOOKUP(A40,[1]研究生学籍信息表!$D:$R,15,0) -> 3 | I40: 全日制学术硕士 | J40: 硕士
A41: 20263137162 | B41: 陈锦儿 | C41: 2026 | D41: =VLOOKUP(A41,[1]研究生学籍信息表!$D:$G,4,0) -> 2026 | E41: =VLOOKUP(A41,[1]研究生学籍信息表!$D:$J,7,0) -> 园艺学院 | F41: =VLOOKUP(A41,[1]研究生学籍信息表!$D:$L,9,0) -> 农艺与种业 | G41: =VLOOKUP(A41,[1]研究生学籍信息表!$D:$O,12,0) -> 非定向 | H41: =VLOOKUP(A41,[1]研究生学籍信息表!$D:$R,15,0) -> 3 | I41: 全日制专业硕士 | J41: 硕士
A42: 20243137142 | B42: 陈靖瑜 | C42: 2024 | D42: =VLOOKUP(A42,[1]研究生学籍信息表!$D:$G,4,0) -> 2024 | E42: =VLOOKUP(A42,[1]研究生学籍信息表!$D:$J,7,0) -> 园艺学院 | F42: =VLOOKUP(A42,[1]研究生学籍信息表!$D:$L,9,0) -> 农艺与种业 | G42: =VLOOKUP(A42,[1]研究生学籍信息表!$D:$O,12,0) -> 非定向 | H42: =VLOOKUP(A42,[1]研究生学籍信息表!$D:$R,15,0) -> 3 | I42: 全日制专业硕士 | J42: 硕士
A43: 20243137143 | B43: 陈静如 | C43: 2024 | D43: =VLOOKUP(A43,[1]研究生学籍信息表!$D:$G,4,0) -> 2024 | E43: =VLOOKUP(A43,[1]研究生学籍信息表!$D:$J,7,0) -> 园艺学院 | F43: =VLOOKUP(A43,[1]研究生学籍信息表!$D:$L,9,0) -> 农艺与种业 | G43: =VLOOKUP(A43,[1]研究生学籍信息表!$D:$O,12,0) -> 非定向 | H43: =VLOOKUP(A43,[1]研究生学籍信息表!$D:$R,15,0) -> 3 | I43: 全日制专业硕士 | J43: 硕士
A44: 20262198005 | B44: 陈俊橘 | C44: 2026 | D44: =VLOOKUP(A44,[1]研究生学籍信息表!$D:$G,4,0) -> 2026 | E44: =VLOOKUP(A44,[1]研究生学籍信息表!$D:$J,7,0) -> 园艺学院 | F44: =VLOOKUP(A44,[1]研究生学籍信息表!$D:$L,9,0) -> 园艺学 | G44: =VLOOKUP(A44,[1]研究生学籍信息表!$D:$O,12,0) -> 非定向 | H44: =VLOOKUP(A44,[1]研究生学籍信息表!$D:$R,15,0) -> 3 | I44: 全日制学术硕士 | J44: 硕士
A45: 20243137144 | B45: 陈俊良 | C45: 2024 | D45: =VLOOKUP(A45,[1]研究生学籍信息表!$D:$G,4,0) -> 2024 | E45: =VLOOKUP(A45,[1]研究生学籍信息表!$D:$J,7,0) -> 园艺学院 | F45: =VLOOKUP(A45,[1]研究生学籍信息表!$D:$L,9,0) -> 农艺与种业 | G45: =VLOOKUP(A45,[1]研究生学籍信息表!$D:$O,12,0) -> 非定向 | H45: =VLOOKUP(A45,[1]研究生学籍信息表!$D:$R,15,0) -> 3 | I45: 全日制专业硕士 | J45: 硕士
A46: 20263137163 | B46: 陈俊宇 | C46: 2026 | D46: =VLOOKUP(A46,[1]研究生学籍信息表!$D:$G,4,0) -> 2026 | E46: =VLOOKUP(A46,[1]研究生学籍信息表!$D:$J,7,0) -> 园艺学院 | F46: =VLOOKUP(A46,[1]研究生学籍信息表!$D:$L,9,0) -> 农艺与种业 | G46: =VLOOKUP(A46,[1]研究生学籍信息表!$D:$O,12,0) -> 非定向 | H46: =VLOOKUP(A46,[1]研究生学籍信息表!$D:$R,15,0) -> 3 | I46: 全日制专业硕士 | J46: 硕士
A47: 20251049001 | B47: 陈峻贤 | C47: 2025 | D47: =VLOOKUP(A47,[1]研究生学籍信息表!$D:$G,4,0) -> 2025 | E47: =VLOOKUP(A47,[1]研究生学籍信息表!$D:$J,7,0) -> 园艺学院 | F47: =VLOOKUP(A47,[1]研究生学籍信息表!$D:$L,9,0) -> 园艺产品采后科学 | G47: =VLOOKUP(A47,[1]研究生学籍信息表!$D:$O,12,0) -> 非定向 | H47: =VLOOKUP(A47,[1]研究生学籍信息表!$D:$R,15,0) -> 4 | I47: 全日制学术博士 | J47: 博士
A48: 20262198006 | B48: 陈坤兰 | C48: 2026 | D48: =VLOOKUP(A48,[1]研究生学籍信息表!$D:$G,4,0) -> 2026 | E48: =VLOOKUP(A48,[1]研究生学籍信息表!$D:$J,7,0) -> 园艺学院 | F48: =VLOOKUP(A48,[1]研究生学籍信息表!$D:$L,9,0) -> 园艺学 | G48: =VLOOKUP(A48,[1]研究生学籍信息表!$D:$O,12,0) -> 非定向 | H48: =VLOOKUP(A48,[1]研究生学籍信息表!$D:$R,15,0) -> 3 | I48: 全日制学术硕士 | J48: 硕士
A49: 20253137157 | B49: 陈立果 | C49: 2025 | D49: =VLOOKUP(A49,[1]研究生学籍信息表!$D:$G,4,0) -> 2025 | E49: =VLOOKUP(A49,[1]研究生学籍信息表!$D:$J,7,0) -> 园艺学院 | F49: =VLOOKUP(A49,[1]研究生学籍信息表!$D:$L,9,0) -> 农艺与种业 | G49: =VLOOKUP(A49,[1]研究生学籍信息表!$D:$O,12,0) -> 非定向 | H49: =VLOOKUP(A49,[1]研究生学籍信息表!$D:$R,15,0) -> 3 | I49: 全日制专业硕士 | J49: 硕士
A50: 20253137158 | B50: 陈丽雅 | C50: 2025 | D50: =VLOOKUP(A50,[1]研究生学籍信息表!$D:$G,4,0) -> 2025 | E50: =VLOOKUP(A50,[1]研究生学籍信息表!$D:$J,7,0) -> 园艺学院 | F50: =VLOOKUP(A50,[1]研究生学籍信息表!$D:$L,9,0) -> 农艺与种业 | G50: =VLOOKUP(A50,[1]研究生学籍信息表!$D:$O,12,0) -> 非定向 | H50: =VLOOKUP(A50,[1]研究生学籍信息表!$D:$R,15,0) -> 3 | I50: 全日制专业硕士 | J50: 硕士
A51: 20253137159 | B51: 陈梦 | C51: 2025 | D51: =VLOOKUP(A51,[1]研究生学籍信息表!$D:$G,4,0) -> 2025 | E51: =VLOOKUP(A51,[1]研究生学籍信息表!$D:$J,7,0) -> 园艺学院 | F51: =VLOOKUP(A51,[1]研究生学籍信息表!$D:$L,9,0) -> 农艺与种业 | G51: =VLOOKUP(A51,[1]研究生学籍信息表!$D:$O,12,0) -> 非定向 | H51: =VLOOKUP(A51,[1]研究生学籍信息表!$D:$R,15,0) -> 3 | I51: 全日制专业硕士 | J51: 硕士
A52: 20252018002 | B52: 陈楠婷 | C52: 2025 | D52: =VLOOKUP(A52,[1]研究生学籍信息表!$D:$G,4,0) -> 2025 | E52: =VLOOKUP(A52,[1]研究生学籍信息表!$D:$J,7,0) -> 园艺学院 | F52: =VLOOKUP(A52,[1]研究生学籍信息表!$D:$L,9,0) -> 茶学 | G52: =VLOOKUP(A52,[1]研究生学籍信息表!$D:$O,12,0) -> 非定向 | H52: =VLOOKUP(A52,[1]研究生学籍信息表!$D:$R,15,0) -> 3 | I52: 全日制学术硕士 | J52: 硕士
A53: 20243137145 | B53: 陈诺 | C53: 2024 | D53: =VLOOKUP(A53,[1]研究生学籍信息表!$D:$G,4,0) -> 2024 | E53: =VLOOKUP(A53,[1]研究生学籍信息表!$D:$J,7,0) -> 园艺学院 | F53: =VLOOKUP(A53,[1]研究生学籍信息表!$D:$L,9,0) -> 农艺与种业 | G53: =VLOOKUP(A53,[1]研究生学籍信息表!$D:$O,12,0) -> 非定向 | H53: =VLOOKUP(A53,[1]研究生学籍信息表!$D:$R,15,0) -> 3 | I53: 全日制专业硕士 | J53: 硕士
A54: 20241016001 | B54: 陈佩珂 | C54: 2024 | D54: =VLOOKUP(A54,[1]研究生学籍信息表!$D:$G,4,0) -> 2024 | E54: =VLOOKUP(A54,[1]研究生学籍信息表!$D:$J,7,0) -> 园艺学院 | F54: =VLOOKUP(A54,[1]研究生学籍信息表!$D:$L,9,0) -> 果树学 | G54: =VLOOKUP(A54,[1]研究生学籍信息表!$D:$O,12,0) -> 非定向 | H54: =VLOOKUP(A54,[1]研究生学籍信息表!$D:$R,15,0) -> 4 | I54: 全日制学术博士 | J54: 博士
A55: 20263137164 | B55: 陈茜雯 | C55: 2026 | D55: =VLOOKUP(A55,[1]研究生学籍信息表!$D:$G,4,0) -> 2026 | E55: =VLOOKUP(A55,[1]研究生学籍信息表!$D:$J,7,0) -> 园艺学院 | F55: =VLOOKUP(A55,[1]研究生学籍信息表!$D:$L,9,0) -> 农艺与种业 | G55: =VLOOKUP(A55,[1]研究生学籍信息表!$D:$O,12,0) -> 非定向 | H55: =VLOOKUP(A55,[1]研究生学籍信息表!$D:$R,15,0) -> 3 | I55: 全日制专业硕士 | J55: 硕士
A56: 20243137146 | B56: 陈珊琪 | C56: 2024 | D56: =VLOOKUP(A56,[1]研究生学籍信息表!$D:$G,4,0) -> 2024 | E56: =VLOOKUP(A56,[1]研究生学籍信息表!$D:$J,7,0) -> 园艺学院 | F56: =VLOOKUP(A56,[1]研究生学籍信息表!$D:$L,9,0) -> 农艺与种业 | G56: =VLOOKUP(A56,[1]研究生学籍信息表!$D:$O,12,0) -> 非定向 | H56: =VLOOKUP(A56,[1]研究生学籍信息表!$D:$R,15,0) -> 3 | I56: 全日制专业硕士 | J56: 硕士
A57: 20251016001 | B57: 陈诗瑶 | C57: 2025 | D57: =VLOOKUP(A57,[1]研究生学籍信息表!$D:$G,4,0) -> 2025 | E57: =VLOOKUP(A57,[1]研究生学籍信息表!$D:$J,7,0) -> 园艺学院 | F57: =VLOOKUP(A57,[1]研究生学籍信息表!$D:$L,9,0) -> 果树学 | G57: =VLOOKUP(A57,[1]研究生学籍信息表!$D:$O,12,0) -> 非定向 | H57: =VLOOKUP(A57,[1]研究生学籍信息表!$D:$R,15,0) -> 4 | I57: 全日制学术博士 | J57: 博士
A58: 20243137147 | B58: 陈诗怡 | C58: 2024 | D58: =VLOOKUP(A58,[1]研究生学籍信息表!$D:$G,4,0) -> 2024 | E58: =VLOOKUP(A58,[1]研究生学籍信息表!$D:$J,7,0) -> 园艺学院 | F58: =VLOOKUP(A58,[1]研究生学籍信息表!$D:$L,9,0) -> 农艺与种业 | G58: =VLOOKUP(A58,[1]研究生学籍信息表!$D:$O,12,0) -> 非定向 | H58: =VLOOKUP(A58,[1]研究生学籍信息表!$D:$R,15,0) -> 3 | I58: 全日制专业硕士 | J58: 硕士
A59: 20253137160 | B59: 陈天明 | C59: 2025 | D59: =VLOOKUP(A59,[1]研究生学籍信息表!$D:$G,4,0) -> 2025 | E59: =VLOOKUP(A59,[1]研究生学籍信息表!$D:$J,7,0) -> 园艺学院 | F59: =VLOOKUP(A59,[1]研究生学籍信息表!$D:$L,9,0) -> 农艺与种业 | G59: =VLOOKUP(A59,[1]研究生学籍信息表!$D:$O,12,0) -> 非定向 | H59: =VLOOKUP(A59,[1]研究生学籍信息表!$D:$R,15,0) -> 3 | I59: 全日制专业硕士 | J59: 硕士
A60: 20243137148 | B60: 陈婷 | C60: 2024 | D60: =VLOOKUP(A60,[1]研究生学籍信息表!$D:$G,4,0) -> 2024 | E60: =VLOOKUP(A60,[1]研究生学籍信息表!$D:$J,7,0) -> 园艺学院 | F60: =VLOOKUP(A60,[1]研究生学籍信息表!$D:$L,9,0) -> 农艺与种业 | G60: =VLOOKUP(A60,[1]研究生学籍信息表!$D:$O,12,0) -> 非定向 | H60: =VLOOKUP(A60,[1]研究生学籍信息表!$D:$R,15,0) -> 3 | I60: 全日制专业硕士 | J60: 硕士
A61: 20243137149 | B61: 陈雯剑 | C61: 2024 | D61: =VLOOKUP(A61,[1]研究生学籍信息表!$D:$G,4,0) -> 2024 | E61: =VLOOKUP(A61,[1]研究生学籍信息表!$D:$J,7,0) -> 园艺学院 | F61: =VLOOKUP(A61,[1]研究生学籍信息表!$D:$L,9,0) -> 农艺与种业 | G61: =VLOOKUP(A61,[1]研究生学籍信息表!$D:$O,12,0) -> 非定向 | H61: =VLOOKUP(A61,[1]研究生学籍信息表!$D:$R,15,0) -> 3 | I61: 全日制专业硕士 | J61: 硕士
A62: 20263137165 | B62: 陈潇涵 | C62: 2026 | D62: =VLOOKUP(A62,[1]研究生学籍信息表!$D:$G,4,0) -> 2026 | E62: =VLOOKUP(A62,[1]研究生学籍信息表!$D:$J,7,0) -> 园艺学院 | F62: =VLOOKUP(A62,[1]研究生学籍信息表!$D:$L,9,0) -> 农艺与种业 | G62: =VLOOKUP(A62,[1]研究生学籍信息表!$D:$O,12,0) -> 非定向 | H62: =VLOOKUP(A62,[1]研究生学籍信息表!$D:$R,15,0) -> 3 | I62: 全日制专业硕士 | J62: 硕士
A63: 20261198001 | B63: 陈晓丹 | C63: 2026 | D63: =VLOOKUP(A63,[1]研究生学籍信息表!$D:$G,4,0) -> 2026 | E63: =VLOOKUP(A63,[1]研究生学籍信息表!$D:$J,7,0) -> 园艺学院 | F63: =VLOOKUP(A63,[1]研究生学籍信息表!$D:$L,9,0) -> 园艺学 | G63: =VLOOKUP(A63,[1]研究生学籍信息表!$D:$O,12,0) -> 非定向 | H63: =VLOOKUP(A63,[1]研究生学籍信息表!$D:$R,15,0) -> 4 | I63: 全日制学术博士 | J63: 博士
A64: 20262198007 | B64: 陈晓文 | C64: 2026 | D64: =VLOOKUP(A64,[1]研究生学籍信息表!$D:$G,4,0) -> 2026 | E64: =VLOOKUP(A64,[1]研究生学籍信息表!$D:$J,7,0) -> 园艺学院 | F64: =VLOOKUP(A64,[1]研究生学籍信息表!$D:$L,9,0) -> 园艺学 | G64: =VLOOKUP(A64,[1]研究生学籍信息表!$D:$O,12,0) -> 非定向 | H64: =VLOOKUP(A64,[1]研究生学籍信息表!$D:$R,15,0) -> 3 | I64: 全日制学术硕士 | J64: 硕士
A65: 20253137161 | B65: 陈雪虹 | C65: 2025 | D65: =VLOOKUP(A65,[1]研究生学籍信息表!$D:$G,4,0) -> 2025 | E65: =VLOOKUP(A65,[1]研究生学籍信息表!$D:$J,7,0) -> 园艺学院 | F65: =VLOOKUP(A65,[1]研究生学籍信息表!$D:$L,9,0) -> 农艺与种业 | G65: =VLOOKUP(A65,[1]研究生学籍信息表!$D:$O,12,0) -> 非定向 | H65: =VLOOKUP(A65,[1]研究生学籍信息表!$D:$R,15,0) -> 3 | I65: 全日制专业硕士 | J65: 硕士
A66: 20253137162 | B66: 陈彦利 | C66: 2025 | D66: =VLOOKUP(A66,[1]研究生学籍信息表!$D:$G,4,0) -> 2025 | E66: =VLOOKUP(A66,[1]研究生学籍信息表!$D:$J,7,0) -> 园艺学院 | F66: =VLOOKUP(A66,[1]研究生学籍信息表!$D:$L,9,0) -> 农艺与种业 | G66: =VLOOKUP(A66,[1]研究生学籍信息表!$D:$O,12,0) -> 非定向 | H66: =VLOOKUP(A66,[1]研究生学籍信息表!$D:$R,15,0) -> 3 | I66: 全日制专业硕士 | J66: 硕士
A67: 20263137166 | B67: 陈彦蓉 | C67: 2026 | D67: =VLOOKUP(A67,[1]研究生学籍信息表!$D:$G,4,0) -> 2026 | E67: =VLOOKUP(A67,[1]研究生学籍信息表!$D:$J,7,0) -> 园艺学院 | F67: =VLOOKUP(A67,[1]研究生学籍信息表!$D:$L,9,0) -> 农艺与种业 | G67: =VLOOKUP(A67,[1]研究生学籍信息表!$D:$O,12,0) -> 非定向 | H67: =VLOOKUP(A67,[1]研究生学籍信息表!$D:$R,15,0) -> 3 | I67: 全日制专业硕士 | J67: 硕士
A68: 20263137167 | B68: 陈燕 | C68: 2026 | D68: =VLOOKUP(A68,[1]研究生学籍信息表!$D:$G,4,0) -> 2026 | E68: =VLOOKUP(A68,[1]研究生学籍信息表!$D:$J,7,0) -> 园艺学院 | F68: =VLOOKUP(A68,[1]研究生学籍信息表!$D:$L,9,0) -> 农艺与种业 | G68: =VLOOKUP(A68,[1]研究生学籍信息表!$D:$O,12,0) -> 非定向 | H68: =VLOOKUP(A68,[1]研究生学籍信息表!$D:$R,15,0) -> 3 | I68: 全日制专业硕士 | J68: 硕士
A69: 20253137163 | B69: 陈奕欣 | C69: 2025 | D69: =VLOOKUP(A69,[1]研究生学籍信息表!$D:$G,4,0) -> 2025 | E69: =VLOOKUP(A69,[1]研究生学籍信息表!$D:$J,7,0) -> 园艺学院 | F69: =VLOOKUP(A69,[1]研究生学籍信息表!$D:$L,9,0) -> 农艺与种业 | G69: =VLOOKUP(A69,[1]研究生学籍信息表!$D:$O,12,0) -> 非定向 | H69: =VLOOKUP(A69,[1]研究生学籍信息表!$D:$R,15,0) -> 3 | I69: 全日制专业硕士 | J69: 硕士
A70: 20261198002 | B70: 陈瑛 | C70: 2026 | D70: =VLOOKUP(A70,[1]研究生学籍信息表!$D:$G,4,0) -> 2026 | E70: =VLOOKUP(A70,[1]研究生学籍信息表!$D:$J,7,0) -> 园艺学院 | F70: =VLOOKUP(A70,[1]研究生学籍信息表!$D:$L,9,0) -> 园艺学 | G70: =VLOOKUP(A70,[1]研究生学籍信息表!$D:$O,12,0) -> 非定向 | H70: =VLOOKUP(A70,[1]研究生学籍信息表!$D:$R,15,0) -> 4 | I70: 全日制学术博士 | J70: 博士
A71: 20241049001 | B71: 陈泳琪 | C71: 2024 | D71: =VLOOKUP(A71,[1]研究生学籍信息表!$D:$G,4,0) -> 2024 | E71: =VLOOKUP(A71,[1]研究生学籍信息表!$D:$J,7,0) -> 园艺学院 | F71: =VLOOKUP(A71,[1]研究生学籍信息表!$D:$L,9,0) -> 园艺产品采后科学 | G71: =VLOOKUP(A71,[1]研究生学籍信息表!$D:$O,12,0) -> 非定向 | H71: =VLOOKUP(A71,[1]研究生学籍信息表!$D:$R,15,0) -> 4 | I71: 全日制学术博士 | J71: 博士
A72: 20253137164 | B72: 陈泳彤 | C72: 2025 | D72: =VLOOKUP(A72,[1]研究生学籍信息表!$D:$G,4,0) -> 2025 | E72: =VLOOKUP(A72,[1]研究生学籍信息表!$D:$J,7,0) -> 园艺学院 | F72: =VLOOKUP(A72,[1]研究生学籍信息表!$D:$L,9,0) -> 农艺与种业 | G72: =VLOOKUP(A72,[1]研究生学籍信息表!$D:$O,12,0) -> 非定向 | H72: =VLOOKUP(A72,[1]研究生学籍信息表!$D:$R,15,0) -> 3 | I72: 全日制专业硕士 | J72: 硕士
A73: 20263137168 | B73: 陈有德 | C73: 2026 | D73: =VLOOKUP(A73,[1]研究生学籍信息表!$D:$G,4,0) -> 2026 | E73: =VLOOKUP(A73,[1]研究生学籍信息表!$D:$J,7,0) -> 园艺学院 | F73: =VLOOKUP(A73,[1]研究生学籍信息表!$D:$L,9,0) -> 农艺与种业 | G73: =VLOOKUP(A73,[1]研究生学籍信息表!$D:$O,12,0) -> 非定向 | H73: =VLOOKUP(A73,[1]研究生学籍信息表!$D:$R,15,0) -> 3 | I73: 全日制专业硕士 | J73: 硕士
A74: 20252017003 | B74: 陈玉娇 | C74: 2025 | D74: =VLOOKUP(A74,[1]研究生学籍信息表!$D:$G,4,0) -> 2025 | E74: =VLOOKUP(A74,[1]研究生学籍信息表!$D:$J,7,0) -> 园艺学院 | F74: =VLOOKUP(A74,[1]研究生学籍信息表!$D:$L,9,0) -> 蔬菜学 | G74: =VLOOKUP(A74,[1]研究生学籍信息表!$D:$O,12,0) -> 非定向 | H74: =VLOOKUP(A74,[1]研究生学籍信息表!$D:$R,15,0) -> 3 | I74: 全日制学术硕士 | J74: 硕士
A75: 20261198003 | B75: 陈钰珊 | C75: 2026 | D75: =VLOOKUP(A75,[1]研究生学籍信息表!$D:$G,4,0) -> 2026 | E75: =VLOOKUP(A75,[1]研究生学籍信息表!$D:$J,7,0) -> 园艺学院 | F75: =VLOOKUP(A75,[1]研究生学籍信息表!$D:$L,9,0) -> 园艺学 | G75: =VLOOKUP(A75,[1]研究生学籍信息表!$D:$O,12,0) -> 非定向 | H75: =VLOOKUP(A75,[1]研究生学籍信息表!$D:$R,15,0) -> 4 | I75: 全日制学术博士 | J75: 博士
A76: 20242016001 | B76: 陈云燕 | C76: 2024 | D76: =VLOOKUP(A76,[1]研究生学籍信息表!$D:$G,4,0) -> 2024 | E76: =VLOOKUP(A76,[1]研究生学籍信息表!$D:$J,7,0) -> 园艺学院 | F76: =VLOOKUP(A76,[1]研究生学籍信息表!$D:$L,9,0) -> 果树学 | G76: =VLOOKUP(A76,[1]研究生学籍信息表!$D:$O,12,0) -> 非定向 | H76: =VLOOKUP(A76,[1]研究生学籍信息表!$D:$R,15,0) -> 3 | I76: 全日制学术硕士 | J76: 硕士
A77: 20263137169 | B77: 程斌 | C77: 2026 | D77: =VLOOKUP(A77,[1]研究生学籍信息表!$D:$G,4,0) -> 2026 | E77: =VLOOKUP(A77,[1]研究生学籍信息表!$D:$J,7,0) -> 园艺学院 | F77: =VLOOKUP(A77,[1]研究生学籍信息表!$D:$L,9,0) -> 农艺与种业 | G77: =VLOOKUP(A77,[1]研究生学籍信息表!$D:$O,12,0) -> 非定向 | H77: =VLOOKUP(A77,[1]研究生学籍信息表!$D:$R,15,0) -> 3 | I77: 全日制专业硕士 | J77: 硕士
A78: 20243137151 | B78: 程海艳 | C78: 2024 | D78: =VLOOKUP(A78,[1]研究生学籍信息表!$D:$G,4,0) -> 2024 | E78: =VLOOKUP(A78,[1]研究生学籍信息表!$D:$J,7,0) -> 园艺学院 | F78: =VLOOKUP(A78,[1]研究生学籍信息表!$D:$L,9,0) -> 农艺与种业 | G78: =VLOOKUP(A78,[1]研究生学籍信息表!$D:$O,12,0) -> 非定向 | H78: =VLOOKUP(A78,[1]研究生学籍信息表!$D:$R,15,0) -> 3 | I78: 全日制专业硕士 | J78: 硕士
A79: 20243137152 | B79: 程衡 | C79: 2024 | D79: =VLOOKUP(A79,[1]研究生学籍信息表!$D:$G,4,0) -> 2024 | E79: =VLOOKUP(A79,[1]研究生学籍信息表!$D:$J,7,0) -> 园艺学院 | F79: =VLOOKUP(A79,[1]研究生学籍信息表!$D:$L,9,0) -> 农艺与种业 | G79: =VLOOKUP(A79,[1]研究生学籍信息表!$D:$O,12,0) -> 非定向 | H79: =VLOOKUP(A79,[1]研究生学籍信息表!$D:$R,15,0) -> 3 | I79: 全日制专业硕士 | J79: 硕士
A80: 20253137165 | B80: 程舒平 | C80: 2025 | D80: =VLOOKUP(A80,[1]研究生学籍信息表!$D:$G,4,0) -> 2025 | E80: =VLOOKUP(A80,[1]研究生学籍信息表!$D:$J,7,0) -> 园艺学院 | F80: =VLOOKUP(A80,[1]研究生学籍信息表!$D:$L,9,0) -> 农艺与种业 | G80: =VLOOKUP(A80,[1]研究生学籍信息表!$D:$O,12,0) -> 非定向 | H80: =VLOOKUP(A80,[1]研究生学籍信息表!$D:$R,15,0) -> 3 | I80: 全日制专业硕士 | J80: 硕士
A81: 20253137166 | B81: 程思宇 | C81: 2025 | D81: =VLOOKUP(A81,[1]研究生学籍信息表!$D:$G,4,0) -> 2025 | E81: =VLOOKUP(A81,[1]研究生学籍信息表!$D:$J,7,0) -> 园艺学院 | F81: =VLOOKUP(A81,[1]研究生学籍信息表!$D:$L,9,0) -> 农艺与种业 | G81: =VLOOKUP(A81,[1]研究生学籍信息表!$D:$O,12,0) -> 非定向 | H81: =VLOOKUP(A81,[1]研究生学籍信息表!$D:$R,15,0) -> 3 | I81: 全日制专业硕士 | J81: 硕士
A82: 20253137167 | B82: 程晓惠 | C82: 2025 | D82: =VLOOKUP(A82,[1]研究生学籍信息表!$D:$G,4,0) -> 2025 | E82: =VLOOKUP(A82,[1]研究生学籍信息表!$D:$J,7,0) -> 园艺学院 | F82: =VLOOKUP(A82,[1]研究生学籍信息表!$D:$L,9,0) -> 农艺与种业 | G82: =VLOOKUP(A82,[1]研究生学籍信息表!$D:$O,12,0) -> 非定向 | H82: =VLOOKUP(A82,[1]研究生学籍信息表!$D:$R,15,0) -> 3 | I82: 全日制专业硕士 | J82: 硕士
A83: 20263137170 | B83: 池昶维 | C83: 2026 | D83: =VLOOKUP(A83,[1]研究生学籍信息表!$D:$G,4,0) -> 2026 | E83: =VLOOKUP(A83,[1]研究生学籍信息表!$D:$J,7,0) -> 园艺学院 | F83: =VLOOKUP(A83,[1]研究生学籍信息表!$D:$L,9,0) -> 农艺与种业 | G83: =VLOOKUP(A83,[1]研究生学籍信息表!$D:$O,12,0) -> 非定向 | H83: =VLOOKUP(A83,[1]研究生学籍信息表!$D:$R,15,0) -> 3 | I83: 全日制专业硕士 | J83: 硕士
A84: 20263137171 | B84: 池前瑶 | C84: 2026 | D84: =VLOOKUP(A84,[1]研究生学籍信息表!$D:$G,4,0) -> 2026 | E84: =VLOOKUP(A84,[1]研究生学籍信息表!$D:$J,7,0) -> 园艺学院 | F84: =VLOOKUP(A84,[1]研究生学籍信息表!$D:$L,9,0) -> 农艺与种业 | G84: =VLOOKUP(A84,[1]研究生学籍信息表!$D:$O,12,0) -> 非定向 | H84: =VLOOKUP(A84,[1]研究生学籍信息表!$D:$R,15,0) -> 3 | I84: 全日制专业硕士 | J84: 硕士
A85: 20242018002 | B85: 崔悠 | C85: 2024 | D85: =VLOOKUP(A85,[1]研究生学籍信息表!$D:$G,4,0) -> 2024 | E85: =VLOOKUP(A85,[1]研究生学籍信息表!$D:$J,7,0) -> 园艺学院 | F85: =VLOOKUP(A85,[1]研究生学籍信息表!$D:$L,9,0) -> 茶学 | G85: =VLOOKUP(A85,[1]研究生学籍信息表!$D:$O,12,0) -> 非定向 | H85: =VLOOKUP(A85,[1]研究生学籍信息表!$D:$R,15,0) -> 3 | I85: 全日制学术硕士 | J85: 硕士
A86: 20263137172 | B86: 代思敏 | C86: 2026 | D86: =VLOOKUP(A86,[1]研究生学籍信息表!$D:$G,4,0) -> 2026 | E86: =VLOOKUP(A86,[1]研究生学籍信息表!$D:$J,7,0) -> 园艺学院 | F86: =VLOOKUP(A86,[1]研究生学籍信息表!$D:$L,9,0) -> 农艺与种业 | G86: =VLOOKUP(A86,[1]研究生学籍信息表!$D:$O,12,0) -> 非定向 | H86: =VLOOKUP(A86,[1]研究生学籍信息表!$D:$R,15,0) -> 3 | I86: 全日制专业硕士 | J86: 硕士
A87: 20242016002 | B87: 戴军海 | C87: 2024 | D87: =VLOOKUP(A87,[1]研究生学籍信息表!$D:$G,4,0) -> 2024 | E87: =VLOOKUP(A87,[1]研究生学籍信息表!$D:$J,7,0) -> 园艺学院 | F87: =VLOOKUP(A87,[1]研究生学籍信息表!$D:$L,9,0) -> 果树学 | G87: =VLOOKUP(A87,[1]研究生学籍信息表!$D:$O,12,0) -> 非定向 | H87: =VLOOKUP(A87,[1]研究生学籍信息表!$D:$R,15,0) -> 3 | I87: 全日制学术硕士 | J87: 硕士
A88: 20263137173 | B88: 戴泉钰 | C88: 2026 | D88: =VLOOKUP(A88,[1]研究生学籍信息表!$D:$G,4,0) -> 2026 | E88: =VLOOKUP(A88,[1]研究生学籍信息表!$D:$J,7,0) -> 园艺学院 | F88: =VLOOKUP(A88,[1]研究生学籍信息表!$D:$L,9,0) -> 农艺与种业 | G88: =VLOOKUP(A88,[1]研究生学籍信息表!$D:$O,12,0) -> 非定向 | H88: =VLOOKUP(A88,[1]研究生学籍信息表!$D:$R,15,0) -> 3 | I88: 全日制专业硕士 | J88: 硕士
A89: 20263137174 | B89: 戴小康 | C89: 2026 | D89: =VLOOKUP(A89,[1]研究生学籍信息表!$D:$G,4,0) -> 2026 | E89: =VLOOKUP(A89,[1]研究生学籍信息表!$D:$J,7,0) -> 园艺学院 | F89: =VLOOKUP(A89,[1]研究生学籍信息表!$D:$L,9,0) -> 农艺与种业 | G89: =VLOOKUP(A89,[1]研究生学籍信息表!$D:$O,12,0) -> 非定向 | H89: =VLOOKUP(A89,[1]研究生学籍信息表!$D:$R,15,0) -> 3 | I89: 全日制专业硕士 | J89: 硕士
A90: 20243137153 | B90: 单肖盈 | C90: 2024 | D90: =VLOOKUP(A90,[1]研究生学籍信息表!$D:$G,4,0) -> 2024 | E90: =VLOOKUP(A90,[1]研究生学籍信息表!$D:$J,7,0) -> 园艺学院 | F90: =VLOOKUP(A90,[1]研究生学籍信息表!$D:$L,9,0) -> 农艺与种业 | G90: =VLOOKUP(A90,[1]研究生学籍信息表!$D:$O,12,0) -> 非定向 | H90: =VLOOKUP(A90,[1]研究生学籍信息表!$D:$R,15,0) -> 3 | I90: 全日制专业硕士 | J90: 硕士
A91: 20252016001 | B91: 单知一丹 | C91: 2025 | D91: =VLOOKUP(A91,[1]研究生学籍信息表!$D:$G,4,0) -> 2025 | E91: =VLOOKUP(A91,[1]研究生学籍信息表!$D:$J,7,0) -> 园艺学院 | F91: =VLOOKUP(A91,[1]研究生学籍信息表!$D:$L,9,0) -> 果树学 | G91: =VLOOKUP(A91,[1]研究生学籍信息表!$D:$O,12,0) -> 非定向 | H91: =VLOOKUP(A91,[1]研究生学籍信息表!$D:$R,15,0) -> 3 | I91: 全日制学术硕士 | J91: 硕士
A92: 20242128001 | B92: 邓宝平 | C92: 2024 | D92: =VLOOKUP(A92,[1]研究生学籍信息表!$D:$G,4,0) -> 2024 | E92: =VLOOKUP(A92,[1]研究生学籍信息表!$D:$J,7,0) -> 园艺学院 | F92: =VLOOKUP(A92,[1]研究生学籍信息表!$D:$L,9,0) -> 设施园艺学 | G92: =VLOOKUP(A92,[1]研究生学籍信息表!$D:$O,12,0) -> 非定向 | H92: =VLOOKUP(A92,[1]研究生学籍信息表!$D:$R,15,0) -> 3 | I92: 全日制学术硕士 | J92: 硕士
A93: 20263137175 | B93: 邓彩婷 | C93: 2026 | D93: =VLOOKUP(A93,[1]研究生学籍信息表!$D:$G,4,0) -> 2026 | E93: =VLOOKUP(A93,[1]研究生学籍信息表!$D:$J,7,0) -> 园艺学院 | F93: =VLOOKUP(A93,[1]研究生学籍信息表!$D:$L,9,0) -> 农艺与种业 | G93: =VLOOKUP(A93,[1]研究生学籍信息表!$D:$O,12,0) -> 非定向 | H93: =VLOOKUP(A93,[1]研究生学籍信息表!$D:$R,15,0) -> 3 | I93: 全日制专业硕士 | J93: 硕士
A94: 20263137176 | B94: 邓红梅 | C94: 2026 | D94: =VLOOKUP(A94,[1]研究生学籍信息表!$D:$G,4,0) -> 2026 | E94: =VLOOKUP(A94,[1]研究生学籍信息表!$D:$J,7,0) -> 园艺学院 | F94: =VLOOKUP(A94,[1]研究生学籍信息表!$D:$L,9,0) -> 农艺与种业 | G94: =VLOOKUP(A94,[1]研究生学籍信息表!$D:$O,12,0) -> 非定向 | H94: =VLOOKUP(A94,[1]研究生学籍信息表!$D:$R,15,0) -> 3 | I94: 全日制专业硕士 | J94: 硕士
A95: 20253137168 | B95: 邓莉 | C95: 2025 | D95: =VLOOKUP(A95,[1]研究生学籍信息表!$D:$G,4,0) -> 2025 | E95: =VLOOKUP(A95,[1]研究生学籍信息表!$D:$J,7,0) -> 园艺学院 | F95: =VLOOKUP(A95,[1]研究生学籍信息表!$D:$L,9,0) -> 农艺与种业 | G95: =VLOOKUP(A95,[1]研究生学籍信息表!$D:$O,12,0) -> 非定向 | H95: =VLOOKUP(A95,[1]研究生学籍信息表!$D:$R,15,0) -> 3 | I95: 全日制专业硕士 | J95: 硕士
A96: 20243137154 | B96: 邓良曦 | C96: 2024 | D96: =VLOOKUP(A96,[1]研究生学籍信息表!$D:$G,4,0) -> 2024 | E96: =VLOOKUP(A96,[1]研究生学籍信息表!$D:$J,7,0) -> 园艺学院 | F96: =VLOOKUP(A96,[1]研究生学籍信息表!$D:$L,9,0) -> 农艺与种业 | G96: =VLOOKUP(A96,[1]研究生学籍信息表!$D:$O,12,0) -> 非定向 | H96: =VLOOKUP(A96,[1]研究生学籍信息表!$D:$R,15,0) -> 3 | I96: 全日制专业硕士 | J96: 硕士
A97: 20251159002 | B97: 邓文琪 | C97: 2025 | D97: =VLOOKUP(A97,[1]研究生学籍信息表!$D:$G,4,0) -> 2025 | E97: =VLOOKUP(A97,[1]研究生学籍信息表!$D:$J,7,0) -> 园艺学院 | F97: =VLOOKUP(A97,[1]研究生学籍信息表!$D:$L,9,0) -> 林学 | G97: =VLOOKUP(A97,[1]研究生学籍信息表!$D:$O,12,0) -> 非定向 | H97: =VLOOKUP(A97,[1]研究生学籍信息表!$D:$R,15,0) -> 4 | I97: 全日制学术博士 | J97: 博士
A98: 20262198008 | B98: 邓文茜 | C98: 2026 | D98: =VLOOKUP(A98,[1]研究生学籍信息表!$D:$G,4,0) -> 2026 | E98: =VLOOKUP(A98,[1]研究生学籍信息表!$D:$J,7,0) -> 园艺学院 | F98: =VLOOKUP(A98,[1]研究生学籍信息表!$D:$L,9,0) -> 园艺学 | G98: =VLOOKUP(A98,[1]研究生学籍信息表!$D:$O,12,0) -> 非定向 | H98: =VLOOKUP(A98,[1]研究生学籍信息表!$D:$R,15,0) -> 3 | I98: 全日制学术硕士 | J98: 硕士
A99: 20252017004 | B99: 邓文正 | C99: 2025 | D99: =VLOOKUP(A99,[1]研究生学籍信息表!$D:$G,4,0) -> 2025 | E99: =VLOOKUP(A99,[1]研究生学籍信息表!$D:$J,7,0) -> 园艺学院 | F99: =VLOOKUP(A99,[1]研究生学籍信息表!$D:$L,9,0) -> 蔬菜学 | G99: =VLOOKUP(A99,[1]研究生学籍信息表!$D:$O,12,0) -> 非定向 | H99: =VLOOKUP(A99,[1]研究生学籍信息表!$D:$R,15,0) -> 3 | I99: 全日制学术硕士 | J99: 硕士
A100: 20243137155 | B100: 邓雅心 | C100: 2024 | D100: =VLOOKUP(A100,[1]研究生学籍信息表!$D:$G,4,0) -> 2024 | E100: =VLOOKUP(A100,[1]研究生学籍信息表!$D:$J,7,0) -> 园艺学院 | F100: =VLOOKUP(A100,[1]研究生学籍信息表!$D:$L,9,0) -> 农艺与种业 | G100: =VLOOKUP(A100,[1]研究生学籍信息表!$D:$O,12,0) -> 非定向 | H100: =VLOOKUP(A100,[1]研究生学籍信息表!$D:$R,15,0) -> 3 | I100: 全日制专业硕士 | J100: 硕士
...
