Workbook

Sheet 拆分给学院核对
A1: 园艺学院核对可参评国奖、学业奖对象名单
A2: 学号 | B2: 姓名 | C2: 评选所在年级 | D2: 年级 | E2: 学院名称 | F2: 专业名称 | G2: 培养类别 | H2: 学制 | I2: 培养层次 | J2: 学生类型 | K2: 备注 | L2: 学院核对后特殊情况说明
A3: 20252017001 | B3: 艾鹏程 | C3: 2025 | D3: =VLOOKUP(A3,[1]研究生学籍信息表!$D:$G,4,0) -> 2025 | E3: =VLOOKUP(A3,[1]研究生学籍信息表!$D:$J,7,0) -> 园艺学院 | F3: =VLOOKUP(A3,[1]研究生学籍信息表!$D:$L,9,0) -> 蔬菜学 | G3: =VLOOKUP(A3,[1]研究生学籍信息表!$D:$O,12,0) -> 非定向 | H3: =VLOOKUP(A3,[1]研究生学籍信息表!$D:$R,15,0) -> 3 | I3: 全日制学术硕士 | J3: 硕士
A4: 20262198001 | B4: 敖仕锦 | C4: 2026 | D4: =VLOOKUP(A4,[1]研究生学籍信息表!$D:$G,4,0) -> 2026 | E4: =VLOOKUP(A4,[1]研究生学籍信息表!$D:$J,7,0) -> 园艺学院 | F4: =VLOOKUP(A4,[1]研究生学籍信息表!$D:$L,9,0) -> 园艺学 | G4: =VLOOKUP(A4,[1]研究生学籍信息表!$D:$O,12,0) -> 非定向 | H4: =VLOOKUP(A4,[1]研究生学籍信息表!$D:$R,15,0) -> 3 | I4: 全日制学术硕士 | J4: 硕士
A5: 20263137155 | B5: 班贵兴 | C5: 2026 | D5: =VLOOKUP(A5,[1]研究生学籍信息表!$D:$G,4,0) -> 2026 | E5: =VLOOKUP(A5,[1]研究生学籍信息表!$D:$J,7,0) -> 园艺学院 | F5: =VLOOKUP(A5,[1]研究生学籍信息表!$D:$L,9,0) -> 农艺与种业 | G5: =VLOOKUP(A5,[1]研究生学籍信息表!$D:$O,12,0) -> 非定向 | H5: =VLOOKUP(A5,[1]研究生学籍信息表!$D:$R,15,0) -> 3 | I5: 全日制专业硕士 | J5: 硕士
A6: 20253137150 | B6: 贝伊婷 | C6: 2025 | D6: =VLOOKUP(A6,[1]研究生学籍信息表!$D:$G,4,0) -> 2025 | E6: =VLOOKUP(A6,[1]研究生学籍信息表!$D:$J,7,0) -> 园艺学院 | F6: =VLOOKUP(A6,[1]研究生学籍信息表!$D:$L,9,0) -> 农艺与种业 | G6: =VLOOKUP(A6,[1]研究生学籍信息表!$D:$O,12,0) -> 非定向 | H6: =VLOOKUP(A6,[1]研究生学籍信息表!$D:$R,15,0) -> 3 | I6: 全日制专业硕士 | J6: 硕士 | K6: 在我校缴费，参评奖学金，学业奖和助学金不在我校发
A7: 20263137156 | B7: 毕丽玮 | C7: 2026 | D7: =VLOOKUP(A7,[1]研究生学籍信息表!$D:$G,4,0) -> 2026 | E7: =VLOOKUP(A7,[1]研究生学籍信息表!$D:$J,7,0) -> 园艺学院 | F7: =VLOOKUP(A7,[1]研究生学籍信息表!$D:$L,9,0) -> 农艺与种业 | G7: =VLOOKUP(A7,[1]研究生学籍信息表!$D:$O,12,0) -> 非定向 | H7: =VLOOKUP(A7,[1]研究生学籍信息表!$D:$R,15,0) -> 3 | I7: 全日制专业硕士 | J7: 硕士
A8: 20263137157 | B8: 蔡迦蕾 | C8: 2026 | D8: =VLOOKUP(A8,[1]研究生学籍信息表!$D:$G,4,0) -> 2026 | E8: =VLOOKUP(A8,[1]研究生学籍信息表!$D:$J,7,0) -> 园艺学院 | F8: =VLOOKUP(A8,[1]研究生学籍信息表!$D:$L,9,0) -> 农艺与种业 | G8: =VLOOKUP(A8,[1]研究生学籍信息表!$D:$O,12,0) -> 非定向 | H8: =VLOOKUP(A8,[1]研究生学籍信息表!$D:$R,15,0) -> 3 | I8: 全日制专业硕士 | J8: 硕士
A9: 20243137139 | B9: 蔡菁芸 | C9: 2024 | D9: =VLOOKUP(A9,[1]研究生学籍信息表!$D:$G,4,0) -> 2024 | E9: =VLOOKUP(A9,[1]研究生学籍信息表!$D:$J,7,0) -> 园艺学院 | F9: =VLOOKUP(A9,[1]研究生学籍信息表!$D:$L,9,0) -> 农艺与种业 | G9: =VLOOKUP(A9,[1]研究生学籍信息表!$D:$O,12,0) -> 非定向 | H9: =VLOOKUP(A9,[1]研究生学籍信息表!$D:$R,15,0) -> 3 | I9: 全日制专业硕士 | J9: 硕士
A10: 20252018001 | B10: 蔡诺 | C10: 2025 | D10: =VLOOKUP(A10,[1]研究生学籍信息表!$D:$G,4,0) -> 2025 | E10: =VLOOKUP(A10,[1]研究生学籍信息表!$D:$J,7,0) -> 园艺学院 | F10: =VLOOKUP(A10,[1]研究生学籍信息表!$D:$L,9,0) -> 茶学 | G10: =VLOOKUP(A10,[1]研究生学籍信息表!$D:$O,12,0) -> 非定向 | H10: =VLOOKUP(A10,[1]研究生学籍信息表!$D:$R,15,0) -> 3 | I10: 全日制学术硕士 | J10: 硕士
A11: 20253137151 | B11: 蔡绮琦 | C11: 2025 | D11: =VLOOKUP(A11,[1]研究生学籍信息表!$D:$G,4,0) -> 2025 | E11: =VLOOKUP(A11,[1]研究生学籍信息表!$D:$J,7,0) -> 园艺学院 | F11: =VLOOKUP(A11,[1]研究生学籍信息表!$D:$L,9,0) -> 农艺与种业 | G11: =VLOOKUP(A11,[1]研究生学籍信息表!$D:$O,12,0) -> 非定向 | H11: =VLOOKUP(A11,[1]研究生学籍信息表!$D:$R,15,0) -> 3 | I11: 全日制专业硕士 | J11: 硕士
A12: 20263137158 | B12: 蔡思雨 | C12: 2026 | D12: =VLOOKUP(A12,[1]研究生学籍信息表!$D:$G,4,0) -> 2026 | E12: =VLOOKUP(A12,[1]研究生学籍信息表!$D:$J,7,0) -> 园艺学院 | F12: =VLOOKUP(A12,[1]研究生学籍信息表!$D:$L,9,0) -> 农艺与种业 | G12: =VLOOKUP(A12,[1]研究生学籍信息表!$D:$O,12,0) -> 非定向 | H12: =VLOOKUP(A12,[1]研究生学籍信息表!$D:$R,15,0) -> 3 | I12: 全日制专业硕士 | J12: 硕士
A13: 20262198002 | B13: 蔡寺贤 | C13: 2026 | D13: =VLOOKUP(A13,[1]研究生学籍信息表!$D:$G,4,0) -> 2026 | E13: =VLOOKUP(A13,[1]研究生学籍信息表!$D:$J,7,0) -> 园艺学院 | F13: =VLOOKUP(A13,[1]研究生学籍信息表!$D:$L,9,0) -> 园艺学 | G13: =VLOOKUP(A13,[1]研究生学籍信息表!$D:$O,12,0) -> 非定向 | H13: =VLOOKUP(A13,[1]研究生学籍信息表!$D:$R,15,0) -> 3 | I13: 全日制学术硕士 | J13: 硕士
A14: 20242017001 | B14: 蔡文杰 | C14: 2024 | D14: =VLOOKUP(A14,[1]研究生学籍信息表!$D:$G,4,0) -> 2024 | E14: =VLOOKUP(A14,[1]研究生学籍信息表!$D:$J,7,0) -> 园艺学院 | F14: =VLOOKUP(A14,[1]研究生学籍信息表!$D:$L,9,0) -> 蔬菜学 | G14: =VLOOKUP(A14,[1]研究生学籍信息表!$D:$O,12,0) -> 非定向 | H14: =VLOOKUP(A14,[1]研究生学籍信息表!$D:$R,15,0) -> 3 | I14: 全日制学术硕士 | J14: 硕士
A15: 20243137140 | B15: 蔡欣燕 | C15: 2024 | D15: =VLOOKUP(A15,[1]研究生学籍信息表!$D:$G,4,0) -> 2024 | E15: =VLOOKUP(A15,[1]研究生学籍信息表!$D:$J,7,0) -> 园艺学院 | F15: =VLOOKUP(A15,[1]研究生学籍信息表!$D:$L,9,0) -> 农艺与种业 | G15: =VLOOKUP(A15,[1]研究生学籍信息表!$D:$O,12,0) -> 非定向 | H15: =VLOOKUP(A15,[1]研究生学籍信息表!$D:$R,15,0) -> 3 | I15: 全日制专业硕士 | J15: 硕士
A16: 20253137152 | B16: 曹航博 | C16: 2025 | D16: =VLOOKUP(A16,[1]研究生学籍信息表!$D:$G,4,0) -> 2025 | E16: =VLOOKUP(A16,[1]研究生学籍信息表!$D:$J,7,0) -> 园艺学院 | F16: =VLOOKUP(A16,[1]研究生学籍信息表!$D:$L,9,0) -> 农艺与种业 | G16: =VLOOKUP(A16,[1]研究生学籍信息表!$D:$O,12,0) -> 非定向 | H16: =VLOOKUP(A16,[1]研究生学籍信息表!$D:$R,15,0) -> 3 | I16: 全日制专业硕士 | J16: 硕士
A17: 20244191001 | B17: 曹嘉浩 | C17: 2024 | D17: =VLOOKUP(A17,[1]研究生学籍信息表!$D:$G,4,0) -> 2024 | E17: =VLOOKUP(A17,[1]研究生学籍信息表!$D:$J,7,0) -> 园艺学院 | F17: =VLOOKUP(A17,[1]研究生学籍信息表!$D:$L,9,0) -> 风景园林 | G17: =VLOOKUP(A17,[1]研究生学籍信息表!$D:$O,12,0) -> 非定向 | H17: =VLOOKUP(A17,[1]研究生学籍信息表!$D:$R,15,0) -> 4 | I17: 全日制专业博士 | J17: 博士
A18: 20263137159 | B18: 曹鸣宇 | C18: 2026 | D18: =VLOOKUP(A18,[1]研究生学籍信息表!$D:$G,4,0) -> 2026 | E18: =VLOOKUP(A18,[1]研究生学籍信息表!$D:$J,7,0) -> 园艺学院 | F18: =VLOOKUP(A18,[1]研究生学籍信息表!$D:$L,9,0) -> 农艺与种业 | G18: =VLOOKUP(A18,[1]研究生学籍信息表!$D:$O,12,0) -> 非定向 | H18: =VLOOKUP(A18,[1]研究生学籍信息表!$D:$R,15,0) -> 3 | I18: 全日制专业硕士 | J18: 硕士
A19: 20263137314 | B19: 曾炳坚 | C19: 2026 | D19: =VLOOKUP(A19,[1]研究生学籍信息表!$D:$G,4,0) -> 2026 | E19: =VLOOKUP(A19,[1]研究生学籍信息表!$D:$J,7,0) -> 园艺学院 | F19: =VLOOKUP(A19,[1]研究生学籍信息表!$D:$L,9,0) -> 农艺与种业 | G19: =VLOOKUP(A19,[1]研究生学籍信息表!$D:$O,12,0) -> 非定向 | H19: =VLOOKUP(A19,[1]研究生学籍信息表!$D:$R,15,0) -> 3 | I19: 全日制专业硕士 | J19: 硕士
A20: 20231017006 | B20: 曾家晶 | C20: 2023 | D20: =VLOOKUP(A20,[1]研究生学籍信息表!$D:$G,4,0) -> 2023 | E20: =VLOOKUP(A20,[1]研究生学籍信息表!$D:$J,7,0) -> 园艺学院 | F20: =VLOOKUP(A20,[1]研究生学籍信息表!$D:$L,9,0) -> 蔬菜学 | G20: =VLOOKUP(A20,[1]研究生学籍信息表!$D:$O,12,0) -> 非定向 | H20: =VLOOKUP(A20,[1]研究生学籍信息表!$D:$R,15,0) -> 4 | I20: 全日制学术博士 | J20: 博士
A21: 20243137276 | B21: 曾嘉培 | C21: 2024 | D21: =VLOOKUP(A21,[1]研究生学籍信息表!$D:$G,4,0) -> 2024 | E21: =VLOOKUP(A21,[1]研究生学籍信息表!$D:$J,7,0) -> 园艺学院 | F21: =VLOOKUP(A21,[1]研究生学籍信息表!$D:$L,9,0) -> 农艺与种业 | G21: =VLOOKUP(A21,[1]研究生学籍信息表!$D:$O,12,0) -> 非定向 | H21: =VLOOKUP(A21,[1]研究生学籍信息表!$D:$R,15,0) -> 3 | I21: 全日制专业硕士 | J21: 硕士
A22: 20243137277 | B22: 曾庆鑫 | C22: 2024 | D22: =VLOOKUP(A22,[1]研究生学籍信息表!$D:$G,4,0) -> 2024 | E22: =VLOOKUP(A22,[1]研究生学籍信息表!$D:$J,7,0) -> 园艺学院 | F22: =VLOOKUP(A22,[1]研究生学籍信息表!$D:$L,9,0) -> 农艺与种业 | G22: =VLOOKUP(A22,[1]研究生学籍信息表!$D:$O,12,0) -> 非定向 | H22: =VLOOKUP(A22,[1]研究生学籍信息表!$D:$R,15,0) -> 3 | I22: 全日制专业硕士 | J22: 硕士
A23: 20243137278 | B23: 曾婉祺 | C23: 2024 | D23: =VLOOKUP(A23,[1]研究生学籍信息表!$D:$G,4,0) -> 2024 | E23: =VLOOKUP(A23,[1]研究生学籍信息表!$D:$J,7,0) -> 园艺学院 | F23: =VLOOKUP(A23,[1]研究生学籍信息表!$D:$L,9,0) -> 农艺与种业 | G23: =VLOOKUP(A23,[1]研究生学籍信息表!$D:$O,12,0) -> 非定向 | H23: =VLOOKUP(A23,[1]研究生学籍信息表!$D:$R,15,0) -> 3 | I23: 全日制专业硕士 | J23: 硕士
A24: 20263137315 | B24: 曾欣然 | C24: 2026 | D24: =VLOOKUP(A24,[1]研究生学籍信息表!$D:$G,4,0) -> 2026 | E24: =VLOOKUP(A24,[1]研究生学籍信息表!$D:$J,7,0) -> 园艺学院 | F24: =VLOOKUP(A24,[1]研究生学籍信息表!$D:$L,9,0) -> 农艺与种业 | G24: =VLOOKUP(A24,[1]研究生学籍信息表!$D:$O,12,0) -> 非定向 | H24: =VLOOKUP(A24,[1]研究生学籍信息表!$D:$R,15,0) -> 3 | I24: 全日制专业硕士 | J24: 硕士
A25: 20252049009 | B25: 曾雪娣 | C25: 2025 | D25: =VLOOKUP(A25,[1]研究生学籍信息表!$D:$G,4,0) -> 2025 | E25: =VLOOKUP(A25,[1]研究生学籍信息表!$D:$J,7,0) -> 园艺学院 | F25: =VLOOKUP(A25,[1]研究生学籍信息表!$D:$L,9,0) -> 园艺产品采后科学 | G25: =VLOOKUP(A25,[1]研究生学籍信息表!$D:$O,12,0) -> 非定向 | H25: =VLOOKUP(A25,[1]研究生学籍信息表!$D:$R,15,0) -> 3 | I25: 全日制学术硕士 | J25: 硕士
A26: 20253137305 | B26: 曾梓璇 | C26: 2025 | D26: =VLOOKUP(A26,[1]研究生学籍信息表!$D:$G,4,0) -> 2025 | E26: =VLOOKUP(A26,[1]研究生学籍信息表!$D:$J,7,0) -> 园艺学院 | F26: =VLOOKUP(A26,[1]研究生学籍信息表!$D:$L,9,0) -> 农艺与种业 | G26: =VLOOKUP(A26,[1]研究生学籍信息表!$D:$O,12,0) -> 非定向 | H26: =VLOOKUP(A26,[1]研究生学籍信息表!$D:$R,15,0) -> 3 | I26: 全日制专业硕士 | J26: 硕士
A27: 20253137153 | B27: 陈灿 | C27: 2025 | D27: =VLOOKUP(A27,[1]研究生学籍信息表!$D:$G,4,0) -> 2025 | E27: =VLOOKUP(A27,[1]研究生学籍信息表!$D:$J,7,0) -> 园艺学院 | F27: =VLOOKUP(A27,[1]研究生学籍信息表!$D:$L,9,0) -> 农艺与种业 | G27: =VLOOKUP(A27,[1]研究生学籍信息表!$D:$O,12,0) -> 非定向 | H27: =VLOOKUP(A27,[1]研究生学籍信息表!$D:$R,15,0) -> 3 | I27: 全日制专业硕士 | J27: 硕士
A28: 20252017002 | B28: 陈翀霄 | C28: 2025 | D28: =VLOOKUP(A28,[1]研究生学籍信息表!$D:$G,4,0) -> 2025 | E28: =VLOOKUP(A28,[1]研究生学籍信息表!$D:$J,7,0) -> 园艺学院 | F28: =VLOOKUP(A28,[1]研究生学籍信息表!$D:$L,9,0) -> 蔬菜学 | G28: =VLOOKUP(A28,[1]研究生学籍信息表!$D:$O,12,0) -> 非定向 | H28: =VLOOKUP(A28,[1]研究生学籍信息表!$D:$R,15,0) -> 3 | I28: 全日制学术硕士 | J28: 硕士
A29: 20231017002 | B29: 陈春凤 | C29: 2023 | D29: =VLOOKUP(A29,[1]研究生学籍信息表!$D:$G,4,0) -> 2023 | E29: =VLOOKUP(A29,[1]研究生学籍信息表!$D:$J,7,0) -> 园艺学院 | F29: =VLOOKUP(A29,[1]研究生学籍信息表!$D:$L,9,0) -> 蔬菜学 | G29: =VLOOKUP(A29,[1]研究生学籍信息表!$D:$O,12,0) -> 非定向 | H29: =VLOOKUP(A29,[1]研究生学籍信息表!$D:$R,15,0) -> 4 | I29: 全日制学术博士 | J29: 博士
A30: 20253137154 | B30: 陈飞 | C30: 2025 | D30: =VLOOKUP(A30,[1]研究生学籍信息表!$D:$G,4,0) -> 2025 | E30: =VLOOKUP(A30,[1]研究生学籍信息表!$D:$J,7,0) -> 园艺学院 | F30: =VLOOKUP(A30,[1]研究生学籍信息表!$D:$L,9,0) -> 农艺与种业 | G30: =VLOOKUP(A30,[1]研究生学籍信息表!$D:$O,12,0) -> 非定向 | H30: =VLOOKUP(A30,[1]研究生学籍信息表!$D:$R,15,0) -> 3 | I30: 全日制专业硕士 | J30: 硕士
A31: 20262198003 | B31: 陈浩明 | C31: 2026 | D31: =VLOOKUP(A31,[1]研究生学籍信息表!$D:$G,4,0) -> 2026 | E31: =VLOOKUP(A31,[1]研究生学籍信息表!$D:$J,7,0) -> 园艺学院 | F31: =VLOOKUP(A31,[1]研究生学籍信息表!$D:$L,9,0) -> 园艺学 | G31: =VLOOKUP(A31,[1]研究生学籍信息表!$D:$O,12,0) -> 非定向 | H31: =VLOOKUP(A31,[1]研究生学籍信息表!$D:$R,15,0) -> 3 | I31: 全日制学术硕士 | J31: 硕士
A32: 20243137141 | B32: 陈浩锐 | C32: 2024 | D32: =VLOOKUP(A32,[1]研究生学籍信息表!$D:$G,4,0) -> 2024 | E32: =VLOOKUP(A32,[1]研究生学籍信息表!$D:$J,7,0) -> 园艺学院 | F32: =VLOOKUP(A32,[1]研究生学籍信息表!$D:$L,9,0) -> 农艺与种业 | G32: =VLOOKUP(A32,[1]研究生学籍信息表!$D:$O,12,0) -> 非定向 | H32: =VLOOKUP(A32,[1]研究生学籍信息表!$D:$R,15,0) -> 3 | I32: 全日制专业硕士 | J32: 硕士
A33: 20253137155 | B33: 陈泓妃 | C33: 2025 | D33: =VLOOKUP(A33,[1]研究生学籍信息表!$D:$G,4,0) -> 2025 | E33: =VLOOKUP(A33,[1]研究生学籍信息表!$D:$J,7,0) -> 园艺学院 | F33: =VLOOKUP(A33,[1]研究生学籍信息表!$D:$L,9,0) -> 农艺与种业 | G33: =VLOOKUP(A33,[1]研究生学籍信息表!$D:$O,12,0) -> 非定向 | H33: =VLOOKUP(A33,[1]研究生学籍信息表!$D:$R,15,0) -> 3 | I33: 全日制专业硕士 | J33: 硕士
A34: 20241018001 | B34: 陈家浩 | C34: 2024 | D34: =VLOOKUP(A34,[1]研究生学籍信息表!$D:$G,4,0) -> 2024 | E34: =VLOOKUP(A34,[1]研究生学籍信息表!$D:$J,7,0) -> 园艺学院 | F34: =VLOOKUP(A34,[1]研究生学籍信息表!$D:$L,9,0) -> 茶学 | G34: =VLOOKUP(A34,[1]研究生学籍信息表!$D:$O,12,0) -> 非定向 | H34: =VLOOKUP(A34,[1]研究生学籍信息表!$D:$R,15,0) -> 4 | I34: 全日制学术博士 | J34: 博士
A35: 20242018001 | B35: 陈家霖 | C35: 2024 | D35: =VLOOKUP(A35,[1]研究生学籍信息表!$D:$G,4,0) -> 2024 | E35: =VLOOKUP(A35,[1]研究生学籍信息表!$D:$J,7,0) -> 园艺学院 | F35: =VLOOKUP(A35,[1]研究生学籍信息表!$D:$L,9,0) -> 茶学 | G35: =VLOOKUP(A35,[1]研究生学籍信息表!$D:$O,12,0) -> 非定向 | H35: =VLOOKUP(A35,[1]研究生学籍信息表!$D:$R,15,0) -> 3 | I35: 全日制学术硕士 | J35: 硕士
A36: 20263137160 | B36: 陈嘉丽 | C36: 2026 | D36: =VLOOKUP(A36,[1]研究生学籍信息表!$D:$G,4,0) -> 2026 | E36: =VLOOKUP(A36,[1]研究生学籍信息表!$D:$J,7,0) -> 园艺学院 | F36: =VLOOKUP(A36,[1]研究生学籍信息表!$D:$L,9,0) -> 农艺与种业 | G36: =VLOOKUP(A36,[1]研究生学籍信息表!$D:$O,12,0) -> 非定向 | H36: =VLOOKUP(A36,[1]研究生学籍信息表!$D:$R,15,0) -> 3 | I36: 全日制专业硕士 | J36: 硕士
A37: 20231016001 | B37: 陈嘉怡 | C37: 2023 | D37: =VLOOKUP(A37,[1]研究生学籍信息表!$D:$G,4,0) -> 2023 | E37: =VLOOKUP(A37,[1]研究生学籍信息表!$D:$J,7,0) -> 园艺学院 | F37: =VLOOKUP(A37,[1]研究生学籍信息表!$D:$L,9,0) -> 果树学 | G37: =VLOOKUP(A37,[1]研究生学籍信息表!$D:$O,12,0) -> 非定向 | H37: =VLOOKUP(A37,[1]研究生学籍信息表!$D:$R,15,0) -> 4 | I37: 全日制学术博士 | J37: 博士
A38: 20263137161 | B38: 陈健翔 | C38: 2026 | D38: =VLOOKUP(A38,[1]研究生学籍信息表!$D:$G,4,0) -> 2026 | E38: =VLOOKUP(A38,[1]研究生学籍信息表!$D:$J,7,0) -> 园艺学院 | F38: =VLOOKUP(A38,[1]研究生学籍信息表!$D:$L,9,0) -> 农艺与种业 | G38: =VLOOKUP(A38,[1]研究生学籍信息表!$D:$O,12,0) -> 非定向 | H38: =VLOOKUP(A38,[1]研究生学籍信息表!$D:$R,15,0) -> 3 | I38: 全日制专业硕士 | J38: 硕士
A39: 20253137156 | B39: 陈婕 | C39: 2025 | D39: =VLOOKUP(A39,[1]研究生学籍信息表!$D:$G,4,0) -> 2025 | E39: =VLOOKUP(A39,[1]研究生学籍信息表!$D:$J,7,0) -> 园艺学院 | F39: =VLOOKUP(A39,[1]研究生学籍信息表!$D:$L,9,0) -> 农艺与种业 | G39: =VLOOKUP(A39,[1]研究生学籍信息表!$D:$O,12,0) -> 非定向 | H39: =VLOOKUP(A39,[1]研究生学籍信息表!$D:$R,15,0) -> 3 | I39: 全日制专业硕士 | J39: 硕士
A40: 20262198004 | B40: 陈金婷 | C40: 2026 | D40: =VLOOKUP(A40,[1]研究生学籍信息表!$D:$G,4,0) -> 2026 | E40: =VLOOKUP(A40,[1]研究生学籍信息表!$D:$J,7,0) -> 园艺学院 | F40: =VLOOKUP(A40,[1]研究生学籍信息表!$D:$L,9,0) -> 园艺学 | G40: =VLOOKUP(A40,[1]研究生学籍信息表!$D:$O,12,0) -> 非定向 | H40: =VLOOKUP(A40,[1]研究生学籍信息表!$D:$R,15,0) -> 3 | I40: 全日制学术硕士 | J40: 硕士
...
